BEGIN:VCALENDAR
VERSION:2.0
PRODID:-//NADI Felda Trolak Selatan - ECPv6.15.13.1//NONSGML v1.0//EN
CALSCALE:GREGORIAN
METHOD:PUBLISH
X-WR-CALNAME:NADI Felda Trolak Selatan
X-ORIGINAL-URL:https://feldatrolakselatan.nadi.my
X-WR-CALDESC:Events for NADI Felda Trolak Selatan
REFRESH-INTERVAL;VALUE=DURATION:PT1H
X-Robots-Tag:noindex
X-PUBLISHED-TTL:PT1H
BEGIN:VTIMEZONE
TZID:UTC
BEGIN:STANDARD
TZOFFSETFROM:+0000
TZOFFSETTO:+0000
TZNAME:UTC
DTSTART:20230101T000000
END:STANDARD
END:VTIMEZONE
BEGIN:VEVENT
DTSTART;TZID=UTC:20240823T150000
DTEND;TZID=UTC:20240823T170000
DTSTAMP:20260420T130048
CREATED:20240802T180927Z
LAST-MODIFIED:20240802T180927Z
UID:7620-1724425200-1724432400@feldatrolakselatan.nadi.my
SUMMARY:Kelas Keusahawanan - CANVA.COM - Name Card
DESCRIPTION:Hari       : Jumaat \nTarikh    : 23 Ogos 2024 \nMasa     : 3.00 petang – 5.00 petang   
URL:https://feldatrolakselatan.nadi.my/event/kelas-keusahawanan-canva-com-name-card/
LOCATION:NADI Felda Trolak Selatan\, NADI Felda Trolak Selatan
CATEGORIES:DEFAULT
END:VEVENT
END:VCALENDAR